BEGIN:VCALENDAR
VERSION:2.0
PRODID:-//Aleksandradahai.com - ECPv6.6.3//NONSGML v1.0//EN
CALSCALE:GREGORIAN
METHOD:PUBLISH
X-ORIGINAL-URL:https://aleksandradahai.com
X-WR-CALDESC:Events for Aleksandradahai.com
REFRESH-INTERVAL;VALUE=DURATION:PT1H
X-Robots-Tag:noindex
X-PUBLISHED-TTL:PT1H
BEGIN:VTIMEZONE
TZID:Europe/Paris
BEGIN:DAYLIGHT
TZOFFSETFROM:+0100
TZOFFSETTO:+0200
TZNAME:CEST
DTSTART:20220327T010000
END:DAYLIGHT
BEGIN:STANDARD
TZOFFSETFROM:+0200
TZOFFSETTO:+0100
TZNAME:CET
DTSTART:20221030T010000
END:STANDARD
BEGIN:DAYLIGHT
TZOFFSETFROM:+0100
TZOFFSETTO:+0200
TZNAME:CEST
DTSTART:20230326T010000
END:DAYLIGHT
BEGIN:STANDARD
TZOFFSETFROM:+0200
TZOFFSETTO:+0100
TZNAME:CET
DTSTART:20231029T010000
END:STANDARD
END:VTIMEZONE
BEGIN:VEVENT
DTSTART;TZID=Europe/Paris:20230926T170000
DTEND;TZID=Europe/Paris:20230926T170000
DTSTAMP:20260421T113613
CREATED:20230829T075047Z
LAST-MODIFIED:20230829T075047Z
UID:229347-1695747600-1695747600@aleksandradahai.com
SUMMARY:Klinika Mindsetu Finansowego
DESCRIPTION:
URL:https://aleksandradahai.com/spotkanie/klinika-mindsetu-finansowego-20/
CATEGORIES:Ruch
END:VEVENT
BEGIN:VEVENT
DTSTART;TZID=Europe/Paris:20230921T100000
DTEND;TZID=Europe/Paris:20230921T120000
DTSTAMP:20260421T113613
CREATED:20230829T074905Z
LAST-MODIFIED:20230829T074905Z
UID:229926-1695290400-1695297600@aleksandradahai.com
SUMMARY:Klinika Mindsetu Finansowego
DESCRIPTION:
URL:https://aleksandradahai.com/spotkanie/klinika-mindsetu-finansowego-19/
CATEGORIES:Ruch
END:VEVENT
BEGIN:VEVENT
DTSTART;TZID=Europe/Paris:20230912T170000
DTEND;TZID=Europe/Paris:20230912T170000
DTSTAMP:20260421T113613
CREATED:20230829T074643Z
LAST-MODIFIED:20230829T074643Z
UID:229925-1694538000-1694538000@aleksandradahai.com
SUMMARY:Sesja Specjalna - temat jeszcze nie jest ustalony
DESCRIPTION:
URL:https://aleksandradahai.com/spotkanie/sesja-specjalna-temat-jeszcze-nie-jest-ustalony/
CATEGORIES:Ruch
END:VEVENT
BEGIN:VEVENT
DTSTART;TZID=Europe/Paris:20230907T110000
DTEND;TZID=Europe/Paris:20230907T130000
DTSTAMP:20260421T113613
CREATED:20230829T075554Z
LAST-MODIFIED:20230829T075554Z
UID:229930-1694084400-1694091600@aleksandradahai.com
SUMMARY:Wykład gościnny - Human Design z Magdą Pawlik
DESCRIPTION:
URL:https://aleksandradahai.com/spotkanie/wyklad-goscinny-human-design-z-magda-pawlik/
CATEGORIES:Ruch
END:VEVENT
BEGIN:VEVENT
DTSTART;TZID=Europe/Paris:20230829T170000
DTEND;TZID=Europe/Paris:20230829T170000
DTSTAMP:20260421T113613
CREATED:20230723T125953Z
LAST-MODIFIED:20230723T125953Z
UID:229348-1693328400-1693328400@aleksandradahai.com
SUMMARY:Klinika Mindsetu Finansowego
DESCRIPTION:
URL:https://aleksandradahai.com/spotkanie/klinika-mindsetu-finansowego-17/
CATEGORIES:Ruch
END:VEVENT
BEGIN:VEVENT
DTSTART;TZID=Europe/Paris:20230824T100000
DTEND;TZID=Europe/Paris:20230824T120000
DTSTAMP:20260421T113613
CREATED:20230723T130131Z
LAST-MODIFIED:20230723T130131Z
UID:229349-1692871200-1692878400@aleksandradahai.com
SUMMARY:Klinika Mindsetu Finansowego
DESCRIPTION:
URL:https://aleksandradahai.com/spotkanie/klinika-mindsetu-finansowego-18/
CATEGORIES:Ruch
END:VEVENT
BEGIN:VEVENT
DTSTART;TZID=Europe/Paris:20230810T100000
DTEND;TZID=Europe/Paris:20230810T120000
DTSTAMP:20260421T113613
CREATED:20230712T171719Z
LAST-MODIFIED:20230723T125817Z
UID:229277-1691661600-1691668800@aleksandradahai.com
SUMMARY:Sesja specjalna - temat pojawi się wkrótce
DESCRIPTION:
URL:https://aleksandradahai.com/spotkanie/sesja-specjalna-motywacja-do-dzialania-strategiczne-wybieranie-priorytetow-skutecznosc-dzialania-prokrastynacja-autosabotaz-odwlekanie-rownowaga-miedzy-dzialaniem-i-niedzialaniem/
CATEGORIES:Ruch
END:VEVENT
BEGIN:VEVENT
DTSTART;TZID=Europe/Paris:20230727T100000
DTEND;TZID=Europe/Paris:20230727T120000
DTSTAMP:20260421T113613
CREATED:20230712T172623Z
LAST-MODIFIED:20230712T172623Z
UID:227099-1690452000-1690459200@aleksandradahai.com
SUMMARY:Klinika Mindsetu Finansowego
DESCRIPTION:
URL:https://aleksandradahai.com/spotkanie/klinika-mindsetu-finansowego-16/
CATEGORIES:Ruch
END:VEVENT
BEGIN:VEVENT
DTSTART;TZID=Europe/Paris:20230718T170000
DTEND;TZID=Europe/Paris:20230718T170000
DTSTAMP:20260421T113613
CREATED:20230712T172357Z
LAST-MODIFIED:20230712T172357Z
UID:229278-1689699600-1689699600@aleksandradahai.com
SUMMARY:Klinika Mindsetu Finansowego
DESCRIPTION:
URL:https://aleksandradahai.com/spotkanie/klinika-mindsetu-finansowego-15/
CATEGORIES:Ruch
END:VEVENT
BEGIN:VEVENT
DTSTART;TZID=Europe/Paris:20230629T100000
DTEND;TZID=Europe/Paris:20230629T120000
DTSTAMP:20260421T113613
CREATED:20230519T053320Z
LAST-MODIFIED:20230519T053320Z
UID:228816-1688032800-1688040000@aleksandradahai.com
SUMMARY:Klinika Mindsetu Finansowego
DESCRIPTION:
URL:https://aleksandradahai.com/spotkanie/klinika-mindsetu-finansowego-14/
CATEGORIES:Ruch
END:VEVENT
BEGIN:VEVENT
DTSTART;TZID=Europe/Paris:20230620T170000
DTEND;TZID=Europe/Paris:20230620T170000
DTSTAMP:20260421T113613
CREATED:20230519T053011Z
LAST-MODIFIED:20230519T053011Z
UID:228814-1687280400-1687280400@aleksandradahai.com
SUMMARY:Klinika Mindsetu Finansowego
DESCRIPTION:
URL:https://aleksandradahai.com/spotkanie/klinika-mindsetu-finansowego-13/
CATEGORIES:Ruch
END:VEVENT
BEGIN:VEVENT
DTSTART;TZID=Europe/Paris:20230615T100000
DTEND;TZID=Europe/Paris:20230615T120000
DTSTAMP:20260421T113613
CREATED:20230519T053742Z
LAST-MODIFIED:20230519T053742Z
UID:228818-1686823200-1686830400@aleksandradahai.com
SUMMARY:Regeneracja świadomości na przyciąganie odpowiednich klientów\, partnerów\, współpracowników\, nauczycieli i mentorów
DESCRIPTION:
URL:https://aleksandradahai.com/spotkanie/regeneracja-swiadomosci-na-przyciaganie-odpowiednich-klientow-partnerow-wspolpracownikow-nauczycieli-i-mentorow/
CATEGORIES:Ruch
END:VEVENT
BEGIN:VEVENT
DTSTART;TZID=Europe/Paris:20230530T170000
DTEND;TZID=Europe/Paris:20230530T170000
DTSTAMP:20260421T113613
CREATED:20230430T152931Z
LAST-MODIFIED:20230430T152931Z
UID:228719-1685466000-1685466000@aleksandradahai.com
SUMMARY:Klinika Mindsetu Finansowego
DESCRIPTION:
URL:https://aleksandradahai.com/spotkanie/klinika-mindsetu-finansowego-12/
CATEGORIES:Ruch
END:VEVENT
BEGIN:VEVENT
DTSTART;TZID=Europe/Paris:20230525T100000
DTEND;TZID=Europe/Paris:20230525T120000
DTSTAMP:20260421T113613
CREATED:20230430T152810Z
LAST-MODIFIED:20230430T152810Z
UID:228720-1685008800-1685016000@aleksandradahai.com
SUMMARY:Klinika Mindsetu Finansowego
DESCRIPTION:
URL:https://aleksandradahai.com/spotkanie/klinika-mindsetu-finansowego-11/
CATEGORIES:Ruch
END:VEVENT
BEGIN:VEVENT
DTSTART;TZID=Europe/Paris:20230509T170000
DTEND;TZID=Europe/Paris:20230509T190000
DTSTAMP:20260421T113613
CREATED:20230430T143109Z
LAST-MODIFIED:20230430T143109Z
UID:228717-1683651600-1683658800@aleksandradahai.com
SUMMARY:Regeneracja Świadomości na wizerunek w biznesie i życiu prywatnym
DESCRIPTION:
URL:https://aleksandradahai.com/spotkanie/regeneracja-swiadomosci-na-wizerunek-w-biznesie-i-zyciu-prywatnym/
CATEGORIES:Ruch
END:VEVENT
BEGIN:VEVENT
DTSTART;TZID=Europe/Paris:20230504T100000
DTEND;TZID=Europe/Paris:20230504T120000
DTSTAMP:20260421T113613
CREATED:20230430T142816Z
LAST-MODIFIED:20230430T142816Z
UID:228715-1683194400-1683201600@aleksandradahai.com
SUMMARY:Klinika Mindsetu Finansowego
DESCRIPTION:
URL:https://aleksandradahai.com/spotkanie/klinika-mindsetu-finansowego-10/
CATEGORIES:Ruch
END:VEVENT
BEGIN:VEVENT
DTSTART;TZID=Europe/Paris:20230427T100000
DTEND;TZID=Europe/Paris:20230427T120000
DTSTAMP:20260421T113613
CREATED:20230212T072124Z
LAST-MODIFIED:20230212T072124Z
UID:227627-1682589600-1682596800@aleksandradahai.com
SUMMARY:Klinika Mindsetu Finansowego
DESCRIPTION:
URL:https://aleksandradahai.com/spotkanie/klinika-mindsetu-finansowego-8/
CATEGORIES:Ruch
END:VEVENT
BEGIN:VEVENT
DTSTART;TZID=Europe/Paris:20230418T170000
DTEND;TZID=Europe/Paris:20230418T190000
DTSTAMP:20260421T113613
CREATED:20230212T072219Z
LAST-MODIFIED:20230212T072219Z
UID:227628-1681837200-1681844400@aleksandradahai.com
SUMMARY:Klinika Mindsetu Finansowego
DESCRIPTION:
URL:https://aleksandradahai.com/spotkanie/klinika-mindsetu-finansowego-9/
CATEGORIES:Ruch
END:VEVENT
BEGIN:VEVENT
DTSTART;TZID=Europe/Paris:20230404T170000
DTEND;TZID=Europe/Paris:20230404T190000
DTSTAMP:20260421T113613
CREATED:20230212T072039Z
LAST-MODIFIED:20230212T072039Z
UID:227629-1680627600-1680634800@aleksandradahai.com
SUMMARY:Regeneracja Świadomości na ....
DESCRIPTION:
URL:https://aleksandradahai.com/spotkanie/regeneracja-swiadomosci-na-3/
CATEGORIES:Ruch
END:VEVENT
BEGIN:VEVENT
DTSTART;TZID=Europe/Paris:20230327T100000
DTEND;TZID=Europe/Paris:20230327T120000
DTSTAMP:20260421T113613
CREATED:20230301T134003Z
LAST-MODIFIED:20230301T134051Z
UID:227792-1679911200-1679918400@aleksandradahai.com
SUMMARY:Wydarzenie: Zawsze mam klientów\, pieniądze i czas
DESCRIPTION:
URL:https://aleksandradahai.com/spotkanie/wydarzenie-3-2023-1/
CATEGORIES:Wyzwanie 3.2023
END:VEVENT
BEGIN:VEVENT
DTSTART;TZID=Europe/Paris:20230323T100000
DTEND;TZID=Europe/Paris:20230323T120000
DTSTAMP:20260421T113613
CREATED:20230212T071845Z
LAST-MODIFIED:20230212T071845Z
UID:227622-1679565600-1679572800@aleksandradahai.com
SUMMARY:Klinika Mindsetu Finansowego
DESCRIPTION:
URL:https://aleksandradahai.com/spotkanie/klinika-mindsetu-finansowego-7/
CATEGORIES:Ruch
END:VEVENT
BEGIN:VEVENT
DTSTART;TZID=Europe/Paris:20230314T170000
DTEND;TZID=Europe/Paris:20230314T190000
DTSTAMP:20260421T113613
CREATED:20230212T071750Z
LAST-MODIFIED:20230301T134349Z
UID:227621-1678813200-1678820400@aleksandradahai.com
SUMMARY:Klinika Mindsetu Finansowego
DESCRIPTION:
URL:https://aleksandradahai.com/spotkanie/klinika-mindsetu-finansowego-6/
CATEGORIES:Ruch
END:VEVENT
BEGIN:VEVENT
DTSTART;TZID=Europe/Paris:20230309T100000
DTEND;TZID=Europe/Paris:20230309T120000
DTSTAMP:20260421T113613
CREATED:20230212T071652Z
LAST-MODIFIED:20230301T134249Z
UID:227623-1678356000-1678363200@aleksandradahai.com
SUMMARY:Regeneracja Świadomości na ....
DESCRIPTION:
URL:https://aleksandradahai.com/spotkanie/regeneracja-swiadomosci-na-2/
CATEGORIES:Ruch
END:VEVENT
BEGIN:VEVENT
DTSTART;TZID=Europe/Paris:20230228T170000
DTEND;TZID=Europe/Paris:20230228T190000
DTSTAMP:20260421T113613
CREATED:20230125T193202Z
LAST-MODIFIED:20230221T185525Z
UID:227499-1677603600-1677610800@aleksandradahai.com
SUMMARY:Klinika Mindsetu Finansowego
DESCRIPTION:
URL:https://aleksandradahai.com/spotkanie/klinika-mindsetu-finansowego-5/
CATEGORIES:Ruch
END:VEVENT
BEGIN:VEVENT
DTSTART;TZID=Europe/Paris:20230216T100000
DTEND;TZID=Europe/Paris:20230216T120000
DTSTAMP:20260421T113613
CREATED:20230125T192924Z
LAST-MODIFIED:20230125T192924Z
UID:227498-1676541600-1676548800@aleksandradahai.com
SUMMARY:Klinika Mindsetu Finansowego
DESCRIPTION:
URL:https://aleksandradahai.com/spotkanie/klinika-mindsetu-finansowego-4/
CATEGORIES:Ruch
END:VEVENT
BEGIN:VEVENT
DTSTART;TZID=Europe/Paris:20230207T170000
DTEND;TZID=Europe/Paris:20230207T190000
DTSTAMP:20260421T113613
CREATED:20230125T193111Z
LAST-MODIFIED:20230125T193111Z
UID:227501-1675789200-1675796400@aleksandradahai.com
SUMMARY:Regeneracja Świadomości na ....
DESCRIPTION:
URL:https://aleksandradahai.com/spotkanie/regeneracja-swiadomosci-na/
CATEGORIES:Ruch
END:VEVENT
BEGIN:VEVENT
DTSTART;TZID=Europe/Paris:20230126T100000
DTEND;TZID=Europe/Paris:20230126T120000
DTSTAMP:20260421T113613
CREATED:20230106T195722Z
LAST-MODIFIED:20230106T195722Z
UID:227100-1674727200-1674734400@aleksandradahai.com
SUMMARY:Klinika Mindsetu Finansowego
DESCRIPTION:
URL:https://aleksandradahai.com/spotkanie/klinika-mindsetu-finansowego-3/
CATEGORIES:Ruch
END:VEVENT
BEGIN:VEVENT
DTSTART;TZID=Europe/Paris:20230117T170000
DTEND;TZID=Europe/Paris:20230117T190000
DTSTAMP:20260421T113613
CREATED:20230106T194905Z
LAST-MODIFIED:20230106T194905Z
UID:227097-1673974800-1673982000@aleksandradahai.com
SUMMARY:Klinika Mindsetu Finansowego
DESCRIPTION:
URL:https://aleksandradahai.com/spotkanie/klinika-mindsetu-finansowego-2/
CATEGORIES:Ruch
END:VEVENT
BEGIN:VEVENT
DTSTART;TZID=Europe/Paris:20230112T100000
DTEND;TZID=Europe/Paris:20230112T120000
DTSTAMP:20260421T113613
CREATED:20230106T195425Z
LAST-MODIFIED:20230106T195425Z
UID:227101-1673517600-1673524800@aleksandradahai.com
SUMMARY:Regeneracja świadomości na finanse\, przyjmowanie i dawanie
DESCRIPTION:
URL:https://aleksandradahai.com/spotkanie/regeneracja-swiadomosci-na-finanse-przyjmowanie-i-dawanie/
CATEGORIES:Ruch
END:VEVENT
BEGIN:VEVENT
DTSTART;TZID=Europe/Paris:20221206T170000
DTEND;TZID=Europe/Paris:20221206T190000
DTSTAMP:20260421T113613
CREATED:20221124T231547Z
LAST-MODIFIED:20221124T231547Z
UID:226793-1670346000-1670353200@aleksandradahai.com
SUMMARY:Klinika Mindsetu Finansowego
DESCRIPTION:
URL:https://aleksandradahai.com/spotkanie/klinika-mindsetu-finansowego/
CATEGORIES:Ruch
END:VEVENT
END:VCALENDAR